BEGIN:VCALENDAR
VERSION:2.0
PRODID:-//wp-events-plugin.com//7.2.3.1//EN
TZID:Europe/Berlin
X-WR-TIMEZONE:Europe/Berlin
BEGIN:VEVENT
UID:249@kirchgemeinde-gera-frankenthal.de
DTSTART;TZID=Europe/Berlin:20260920T000000
DTEND;TZID=Europe/Berlin:20260920T000000
DTSTAMP:20260101T135220Z
URL:https://www.kirchgemeinde-gera-frankenthal.de/veranstaltungen/kinderfe
 st/
SUMMARY:Kinderfest
DESCRIPTION:Veranstalter:\n\nHeimat- und Feuerwehrverein Gera West e.V.\n\n
 Bitte richten Sie Ihre Anfragen direkt an den Veranstalter!\n\nInternetsei
 te: Termine / Veranstalltungen (externer Link\, Sie verlassen die Internet
 seite der Kirchgemeinde)\n\n“Kinderfest 2026”\nDatum:  So. 20.09.2026
 \nOrt: Festwiese Gera-Frankenthal
ATTACH;FMTTYPE=image/jpeg:https://www.kirchgemeinde-gera-frankenthal.de/wp
 -content/uploads/2026/01/hfv.png
CATEGORIES:Regionale Veranstaltungen in den Westvororten
LOCATION:Festwiese Frankenthal\, Am Hartmannsberg\, 07548 Gera - Frankentha
 l\, Deutschland
X-APPLE-STRUCTURED-LOCATION;VALUE=URI;X-ADDRESS=Am Hartmannsberg\, 07548 Ge
 ra - Frankenthal\, Deutschland;X-APPLE-RADIUS=100;X-TITLE=Festwiese Franke
 nthal:geo:0,0
END:VEVENT
BEGIN:VTIMEZONE
TZID:Europe/Berlin
X-LIC-LOCATION:Europe/Berlin
BEGIN:DAYLIGHT
DTSTART:20260329T030000
TZOFFSETFROM:+0100
TZOFFSETTO:+0200
TZNAME:CEST
END:DAYLIGHT
END:VTIMEZONE
END:VCALENDAR