BEGIN:VCALENDAR
VERSION:2.0
PRODID:-//wp-events-plugin.com//7.2.3.1//EN
TZID:Europe/Berlin
X-WR-TIMEZONE:Europe/Berlin
BEGIN:VEVENT
UID:126@kirchgemeinde-gera-frankenthal.de
DTSTART;TZID=Europe/Berlin:20241026T170000
DTEND;TZID=Europe/Berlin:20241026T170000
DTSTAMP:20241026T153029Z
URL:https://www.kirchgemeinde-gera-frankenthal.de/veranstaltungen/hubertus
 messe/
SUMMARY:Hubertusmesse
DESCRIPTION:Hubertusmesse mit den Parforcehornbläsern „Reuss’sche Jäg
 er“ (C. Kurzke)
LOCATION:Kirche Rüdersdorf\, Rüdersdorf 30\, Rüdersdorf\, Thüringen\, 0
 7586\, Deutschland
X-APPLE-STRUCTURED-LOCATION;VALUE=URI;X-ADDRESS=Rüdersdorf 30\, Rüdersdor
 f\, Thüringen\, 07586\, Deutschland;X-APPLE-RADIUS=100;X-TITLE=Kirche Rü
 dersdorf:geo:0,0
END:VEVENT
BEGIN:VTIMEZONE
TZID:Europe/Berlin
X-LIC-LOCATION:Europe/Berlin
BEGIN:DAYLIGHT
DTSTART:20240331T030000
TZOFFSETFROM:+0100
TZOFFSETTO:+0200
TZNAME:CEST
END:DAYLIGHT
END:VTIMEZONE
END:VCALENDAR