BEGIN:VCALENDAR
VERSION:2.0
PRODID:-//wp-events-plugin.com//7.2.3.1//EN
TZID:Europe/Berlin
X-WR-TIMEZONE:Europe/Berlin
BEGIN:VEVENT
UID:148@kirchgemeinde-gera-frankenthal.de
DTSTART;TZID=Europe/Berlin:20241214T170000
DTEND;TZID=Europe/Berlin:20241214T170000
DTSTAMP:20241027T162928Z
URL:https://www.kirchgemeinde-gera-frankenthal.de/veranstaltungen/adventsm
 usik/
SUMMARY:Adventsmusik
DESCRIPTION:Adventsmusik\n\nLeitung: B. Hahn
LOCATION:Kirche Rüdersdorf\, Rüdersdorf 30\, Rüdersdorf\, Thüringen\, 0
 7586\, Deutschland
X-APPLE-STRUCTURED-LOCATION;VALUE=URI;X-ADDRESS=Rüdersdorf 30\, Rüdersdor
 f\, Thüringen\, 07586\, Deutschland;X-APPLE-RADIUS=100;X-TITLE=Kirche Rü
 dersdorf:geo:0,0
END:VEVENT
BEGIN:VTIMEZONE
TZID:Europe/Berlin
X-LIC-LOCATION:Europe/Berlin
BEGIN:STANDARD
DTSTART:20241027T020000
TZOFFSETFROM:+0200
TZOFFSETTO:+0100
TZNAME:CET
END:STANDARD
END:VTIMEZONE
END:VCALENDAR